BEGIN:VCALENDAR
VERSION:2.0
PRODID:-//Andrin Hoeltschi - ECPv6.3.7//NONSGML v1.0//EN
CALSCALE:GREGORIAN
METHOD:PUBLISH
X-WR-CALNAME:Andrin Hoeltschi
X-ORIGINAL-URL:https://andrinhoeltschi.ch
X-WR-CALDESC:Veranstaltungen für Andrin Hoeltschi
REFRESH-INTERVAL;VALUE=DURATION:PT1H
X-Robots-Tag:noindex
X-PUBLISHED-TTL:PT1H
BEGIN:VTIMEZONE
TZID:UTC
BEGIN:STANDARD
TZOFFSETFROM:+0000
TZOFFSETTO:+0000
TZNAME:UTC
DTSTART:20230101T000000
END:STANDARD
TZID:Europe/Paris
BEGIN:DAYLIGHT
TZOFFSETFROM:+0100
TZOFFSETTO:+0200
TZNAME:CEST
DTSTART:20240331T010000
END:DAYLIGHT
BEGIN:STANDARD
TZOFFSETFROM:+0200
TZOFFSETTO:+0100
TZNAME:CET
DTSTART:20241027T010000
END:STANDARD
END:VTIMEZONE
BEGIN:VEVENT
DTSTART;TZID=UTC:20240616T203000
DTEND;TZID=UTC:20240616T220000
DTSTAMP:20260421T141107
CREATED:20240405T204810Z
LAST-MODIFIED:20240405T204851Z
UID:10000009-1718569800-1718575200@andrinhoeltschi.ch
SUMMARY:Sommernachtspiele Cham
DESCRIPTION:
URL:https://andrinhoeltschi.ch/veranstaltung/sommernachtspiele-cham/2024-06-16/
LOCATION:Im Hirsgarten am See\, Cham\, Zug\, 6330\, Schweiz
CATEGORIES:Musiktheater
ATTACH;FMTTYPE=image/jpeg:https://andrinhoeltschi.ch/wp-content/uploads/2024/04/sommernachtspiele_cham_2024_visual_rz-scaled.jpg
ORGANIZER;CN="Musikgesellschaft Cham":MAILTO:kontakt@mgcham.ch
END:VEVENT
BEGIN:VEVENT
DTSTART;TZID=UTC:20240615T203000
DTEND;TZID=UTC:20240615T220000
DTSTAMP:20260421T141108
CREATED:20240405T204810Z
LAST-MODIFIED:20240405T204851Z
UID:10000008-1718483400-1718488800@andrinhoeltschi.ch
SUMMARY:Sommernachtspiele Cham
DESCRIPTION:
URL:https://andrinhoeltschi.ch/veranstaltung/sommernachtspiele-cham/2024-06-15/
LOCATION:Im Hirsgarten am See\, Cham\, Zug\, 6330\, Schweiz
CATEGORIES:Musiktheater
ATTACH;FMTTYPE=image/jpeg:https://andrinhoeltschi.ch/wp-content/uploads/2024/04/sommernachtspiele_cham_2024_visual_rz-scaled.jpg
ORGANIZER;CN="Musikgesellschaft Cham":MAILTO:kontakt@mgcham.ch
END:VEVENT
BEGIN:VEVENT
DTSTART;TZID=UTC:20240614T203000
DTEND;TZID=UTC:20240614T220000
DTSTAMP:20260421T141108
CREATED:20240405T204810Z
LAST-MODIFIED:20240405T204851Z
UID:10000007-1718397000-1718402400@andrinhoeltschi.ch
SUMMARY:Sommernachtspiele Cham
DESCRIPTION:
URL:https://andrinhoeltschi.ch/veranstaltung/sommernachtspiele-cham/2024-06-14/
LOCATION:Im Hirsgarten am See\, Cham\, Zug\, 6330\, Schweiz
CATEGORIES:Musiktheater
ATTACH;FMTTYPE=image/jpeg:https://andrinhoeltschi.ch/wp-content/uploads/2024/04/sommernachtspiele_cham_2024_visual_rz-scaled.jpg
ORGANIZER;CN="Musikgesellschaft Cham":MAILTO:kontakt@mgcham.ch
END:VEVENT
BEGIN:VEVENT
DTSTART;TZID=UTC:20240612T203000
DTEND;TZID=UTC:20240612T220000
DTSTAMP:20260421T141108
CREATED:20240405T204810Z
LAST-MODIFIED:20240405T204851Z
UID:10000006-1718224200-1718229600@andrinhoeltschi.ch
SUMMARY:Sommernachtspiele Cham
DESCRIPTION:
URL:https://andrinhoeltschi.ch/veranstaltung/sommernachtspiele-cham/2024-06-12/
LOCATION:Im Hirsgarten am See\, Cham\, Zug\, 6330\, Schweiz
CATEGORIES:Musiktheater
ATTACH;FMTTYPE=image/jpeg:https://andrinhoeltschi.ch/wp-content/uploads/2024/04/sommernachtspiele_cham_2024_visual_rz-scaled.jpg
ORGANIZER;CN="Musikgesellschaft Cham":MAILTO:kontakt@mgcham.ch
END:VEVENT
BEGIN:VEVENT
DTSTART;TZID=UTC:20240611T203000
DTEND;TZID=UTC:20240611T220000
DTSTAMP:20260421T141108
CREATED:20240405T204810Z
LAST-MODIFIED:20240405T204851Z
UID:10000005-1718137800-1718143200@andrinhoeltschi.ch
SUMMARY:Sommernachtspiele Cham
DESCRIPTION:
URL:https://andrinhoeltschi.ch/veranstaltung/sommernachtspiele-cham/2024-06-11/
LOCATION:Im Hirsgarten am See\, Cham\, Zug\, 6330\, Schweiz
CATEGORIES:Musiktheater
ATTACH;FMTTYPE=image/jpeg:https://andrinhoeltschi.ch/wp-content/uploads/2024/04/sommernachtspiele_cham_2024_visual_rz-scaled.jpg
ORGANIZER;CN="Musikgesellschaft Cham":MAILTO:kontakt@mgcham.ch
END:VEVENT
BEGIN:VEVENT
DTSTART;TZID=UTC:20240609T203000
DTEND;TZID=UTC:20240609T220000
DTSTAMP:20260421T141108
CREATED:20240405T204810Z
LAST-MODIFIED:20240405T204851Z
UID:10000004-1717965000-1717970400@andrinhoeltschi.ch
SUMMARY:Sommernachtspiele Cham
DESCRIPTION:
URL:https://andrinhoeltschi.ch/veranstaltung/sommernachtspiele-cham/2024-06-09/
LOCATION:Im Hirsgarten am See\, Cham\, Zug\, 6330\, Schweiz
CATEGORIES:Musiktheater
ATTACH;FMTTYPE=image/jpeg:https://andrinhoeltschi.ch/wp-content/uploads/2024/04/sommernachtspiele_cham_2024_visual_rz-scaled.jpg
ORGANIZER;CN="Musikgesellschaft Cham":MAILTO:kontakt@mgcham.ch
END:VEVENT
BEGIN:VEVENT
DTSTART;TZID=UTC:20240608T203000
DTEND;TZID=UTC:20240608T220000
DTSTAMP:20260421T141108
CREATED:20240405T204810Z
LAST-MODIFIED:20240405T204851Z
UID:10000003-1717878600-1717884000@andrinhoeltschi.ch
SUMMARY:Sommernachtspiele Cham
DESCRIPTION:
URL:https://andrinhoeltschi.ch/veranstaltung/sommernachtspiele-cham/2024-06-08/
LOCATION:Im Hirsgarten am See\, Cham\, Zug\, 6330\, Schweiz
CATEGORIES:Musiktheater
ATTACH;FMTTYPE=image/jpeg:https://andrinhoeltschi.ch/wp-content/uploads/2024/04/sommernachtspiele_cham_2024_visual_rz-scaled.jpg
ORGANIZER;CN="Musikgesellschaft Cham":MAILTO:kontakt@mgcham.ch
END:VEVENT
BEGIN:VEVENT
DTSTART;TZID=UTC:20240607T203000
DTEND;TZID=UTC:20240607T220000
DTSTAMP:20260421T141108
CREATED:20240405T204810Z
LAST-MODIFIED:20240405T204851Z
UID:10000002-1717792200-1717797600@andrinhoeltschi.ch
SUMMARY:Sommernachtspiele Cham
DESCRIPTION:
URL:https://andrinhoeltschi.ch/veranstaltung/sommernachtspiele-cham/2024-06-07/
LOCATION:Im Hirsgarten am See\, Cham\, Zug\, 6330\, Schweiz
CATEGORIES:Musiktheater
ATTACH;FMTTYPE=image/jpeg:https://andrinhoeltschi.ch/wp-content/uploads/2024/04/sommernachtspiele_cham_2024_visual_rz-scaled.jpg
ORGANIZER;CN="Musikgesellschaft Cham":MAILTO:kontakt@mgcham.ch
END:VEVENT
BEGIN:VEVENT
DTSTART;TZID=UTC:20240511T132700
DTEND;TZID=UTC:20240511T135200
DTSTAMP:20260421T141108
CREATED:20240421T113230Z
LAST-MODIFIED:20240421T123339Z
UID:10000010-1715434020-1715435520@andrinhoeltschi.ch
SUMMARY:Kantonal Jugendmusikfest Wolhusen 2024
DESCRIPTION:
URL:https://andrinhoeltschi.ch/veranstaltung/kantonal-jugendmusikfest-wolhusen-2024/
LOCATION:Luzern
CATEGORIES:Kantonal Jugendmusikfest Luzern,Kantonal Musikfest Luzern
ATTACH;FMTTYPE=image/jpeg:https://andrinhoeltschi.ch/wp-content/uploads/2024/04/Kanrtonal-Jugendmusikfest-Wolhusen-Flyer-Andrin-2024.jpg
END:VEVENT
BEGIN:VEVENT
DTSTART;TZID=Europe/Paris:20240420T193000
DTEND;TZID=Europe/Paris:20240420T220000
DTSTAMP:20260421T141108
CREATED:20240405T191632Z
LAST-MODIFIED:20240405T214301Z
UID:10000001-1713641400-1713650400@andrinhoeltschi.ch
SUMMARY:the power of brass and wind
DESCRIPTION:
URL:https://andrinhoeltschi.ch/veranstaltung/the-power-of-brass-and-wind/
LOCATION:Festhalle Sempach\, Seestrasse 16\, Sempach\, Luzern\, 6204\, Schweiz
CATEGORIES:Gemeinschaftskonzert
ATTACH;FMTTYPE=image/png:https://andrinhoeltschi.ch/wp-content/uploads/2024/04/thepowerofbrassandwind2024.png
ORGANIZER;CN="Musikschule Oberer Sempachersee":MAILTO:mail@msoss.ch
END:VEVENT
BEGIN:VEVENT
DTSTART;TZID=UTC:20231119T170000
DTEND;TZID=UTC:20231119T193000
DTSTAMP:20260421T141108
CREATED:20240421T191526Z
LAST-MODIFIED:20240421T193251Z
UID:10000013-1700413200-1700422200@andrinhoeltschi.ch
SUMMARY:Showtime\, A Musical Story
DESCRIPTION:
URL:https://andrinhoeltschi.ch/veranstaltung/showtime-a-musical-story/
LOCATION:Festhalle Willisau\, Am Viemarkt 2\, 6130 Willisau\, Willisau-Stadt\, Luzern\, 6130\, Schweiz
CATEGORIES:Musical
ATTACH;FMTTYPE=image/jpeg:https://andrinhoeltschi.ch/wp-content/uploads/2024/04/3c6c2c96-0f98-4d50-a907-3fac9723c1a3.jpg
END:VEVENT
BEGIN:VEVENT
DTSTART;TZID=UTC:20231119T133000
DTEND;TZID=UTC:20231119T143000
DTSTAMP:20260421T141108
CREATED:20240421T205445Z
LAST-MODIFIED:20240421T205452Z
UID:10000016-1700400600-1700404200@andrinhoeltschi.ch
SUMMARY:Showtime\, Kinderkonzert
DESCRIPTION:Konzernte 2023\nKonzernte 2023\nKonzernte 2023\nKonzernte 2023\nKonzernte 2023\nKonzernte 2023\nKonzernte 2023\nKonzernte 2023\nKonzernte 2023\nKonzernte 2023\nKonzernte 2023
URL:https://andrinhoeltschi.ch/veranstaltung/showtime-kinderkonzert/
LOCATION:Festhalle Willisau\, Am Viemarkt 2\, 6130 Willisau\, Willisau-Stadt\, Luzern\, 6130\, Schweiz
CATEGORIES:Musical
ATTACH;FMTTYPE=image/jpeg:https://andrinhoeltschi.ch/wp-content/uploads/2024/04/3c6c2c96-0f98-4d50-a907-3fac9723c1a3.jpg
END:VEVENT
BEGIN:VEVENT
DTSTART;TZID=UTC:20231118T200000
DTEND;TZID=UTC:20231118T223000
DTSTAMP:20260421T141108
CREATED:20240421T192657Z
LAST-MODIFIED:20240421T205641Z
UID:10000015-1700337600-1700346600@andrinhoeltschi.ch
SUMMARY:Showtime\, A Musical Story
DESCRIPTION:
URL:https://andrinhoeltschi.ch/veranstaltung/showtime-a-musical-story-2/
LOCATION:Luzern
CATEGORIES:Musical
ATTACH;FMTTYPE=image/jpeg:https://andrinhoeltschi.ch/wp-content/uploads/2024/04/3c6c2c96-0f98-4d50-a907-3fac9723c1a3.jpg
END:VEVENT
END:VCALENDAR